BEGIN:VCALENDAR
VERSION:2.0
PRODID:-//St Andrews Preservation Trust - ECPv6.15.20//NONSGML v1.0//EN
CALSCALE:GREGORIAN
METHOD:PUBLISH
X-ORIGINAL-URL:https://standrewspreservationtrust.com
X-WR-CALDESC:Events for St Andrews Preservation Trust
REFRESH-INTERVAL;VALUE=DURATION:PT1H
X-Robots-Tag:noindex
X-PUBLISHED-TTL:PT1H
BEGIN:VTIMEZONE
TZID:UTC
BEGIN:STANDARD
TZOFFSETFROM:+0000
TZOFFSETTO:+0000
TZNAME:UTC
DTSTART:20210101T000000
END:STANDARD
END:VTIMEZONE
BEGIN:VEVENT
DTSTART;TZID=UTC:20250629T110000
DTEND;TZID=UTC:20250629T160000
DTSTAMP:20260424T082928
CREATED:20250417T160934Z
LAST-MODIFIED:20250620T145633Z
UID:10000082-1751194800-1751212800@standrewspreservationtrust.com
SUMMARY:Hidden Gardens 2025
DESCRIPTION:Scroll downn to book\n					\n					\n				\n								\n				\n				\n				\n									Hidden Gardens – 28 June 2026 – 11am – 5pm – last entry 4pm  Look out for 2026 Map and Brochure online in June  You’re invited to our renowned Hidden Gardens Event!The St Andrews Preservation Trust is delighted to invite you to its 28th Hidden Gardens event on 28 June 2026. Revealing some of St Andrews’ best-kept secrets\, this annual fundraising event gives you exclusive access for one day each year to 14 hidden gardens of St Andrews. Gardens big and small\, some beautiful borders\, specimen plants\, examples of typical gardens and huge gardens with pear avenues and doocots. Interesting historic features from doocots to bee boles\, and off course lots of stone walls!See the private side of some period buildingsTrust stalls with Homemade jams\, chutneys and textilesTea on the Terrace (or Coffee) and Homemade ShortbreadsPlant stall with East Neuk perennials Community Stalls including Friends of Craigtoun\, St Andrews Men’s Shed\, Community Council (with tombola) and Fife Beekeepers (selling their own local honey)Live music at the doocot at 46 South Street Jill’s textiles stall is all set to be a big hit\, she’s been busy with her friends preparing a whole host of useful items and tasty treats! “I love sewing\, and although it’s just a hobby\, I am delighted to give 100% of what you spend at this stall to the Preservation Trust. I make useful things like aprons\, peg bags\, laundry and shoe Bags\, spectacle and mobile phone Cases\, teapot and cafetiere cosies\, cushions and draught excluders. I now combine my sewing stall with my Marmalade\, Preserves Jellies and Chutneys and Irene Bennett’s ‘heavenly’ tablet. Friends who knit have added to this emporium of homemaking crafts with Gloves\, Fingerless Texting Mittens\, Socks and snug Woolley Hats for the St. Andrews weather! You’ll find me at this year’s headquarters in the garden at 46 South Street.” Jill  A staple in the Trust calendarMembers\, locals and visitors return year after year to this unique opportunity to see behind the walls of St Andrews into private gardens\, big and small – and support the Trust in our biggest annual Fundraiser. There is a great sense of community and a fete like atmosphere with live music\, tea on the terrace\, and community stalls. The Trust would love to welcome you!  Volunteer at Hidden Gardens:If you would like to get involved contact Giselle at Trust@stapt.org.uk.   ParkingFree Parking at the Boys’ Brigade Hall\, Langlands Road KY16 9BW or at Petheram Bridge carpark\, St Andrews KY16 9TF   We are unable to accommodate pets (guide dogs welcome)
URL:https://standrewspreservationtrust.com/event/hidden-gardens-2025/
LOCATION:46 South Street\, 46 South Street\, St Andrews\, Fife\, KY16 9JT\, United Kingdom
CATEGORIES:hidden gardens,Outdoor
END:VEVENT
BEGIN:VEVENT
DTSTART;TZID=UTC:20240623T110000
DTEND;TZID=UTC:20240623T160000
DTSTAMP:20260424T082928
CREATED:20240328T165039Z
LAST-MODIFIED:20240530T101201Z
UID:10000068-1719140400-1719158400@standrewspreservationtrust.com
SUMMARY:Hidden Gardens 2024
DESCRIPTION:Scroll downn to book\n					\n					\n				\n								\n				\n				\n				\n									Hidden Gardens – 28 June 2026 – 11am – 5pm – last entry 4pm  Look out for 2026 Map and Brochure online in June  You’re invited to our renowned Hidden Gardens Event!The St Andrews Preservation Trust is delighted to invite you to its 28th Hidden Gardens event on 28 June 2026. Revealing some of St Andrews’ best-kept secrets\, this annual fundraising event gives you exclusive access for one day each year to 14 hidden gardens of St Andrews. Gardens big and small\, some beautiful borders\, specimen plants\, examples of typical gardens and huge gardens with pear avenues and doocots. Interesting historic features from doocots to bee boles\, and off course lots of stone walls!See the private side of some period buildingsTrust stalls with Homemade jams\, chutneys and textilesTea on the Terrace (or Coffee) and Homemade ShortbreadsPlant stall with East Neuk perennials Community Stalls including Friends of Craigtoun\, St Andrews Men’s Shed\, Community Council (with tombola) and Fife Beekeepers (selling their own local honey)Live music at the doocot at 46 South Street Jill’s textiles stall is all set to be a big hit\, she’s been busy with her friends preparing a whole host of useful items and tasty treats! “I love sewing\, and although it’s just a hobby\, I am delighted to give 100% of what you spend at this stall to the Preservation Trust. I make useful things like aprons\, peg bags\, laundry and shoe Bags\, spectacle and mobile phone Cases\, teapot and cafetiere cosies\, cushions and draught excluders. I now combine my sewing stall with my Marmalade\, Preserves Jellies and Chutneys and Irene Bennett’s ‘heavenly’ tablet. Friends who knit have added to this emporium of homemaking crafts with Gloves\, Fingerless Texting Mittens\, Socks and snug Woolley Hats for the St. Andrews weather! You’ll find me at this year’s headquarters in the garden at 46 South Street.” Jill  A staple in the Trust calendarMembers\, locals and visitors return year after year to this unique opportunity to see behind the walls of St Andrews into private gardens\, big and small – and support the Trust in our biggest annual Fundraiser. There is a great sense of community and a fete like atmosphere with live music\, tea on the terrace\, and community stalls. The Trust would love to welcome you!  Volunteer at Hidden Gardens:If you would like to get involved contact Giselle at Trust@stapt.org.uk.   ParkingFree Parking at the Boys’ Brigade Hall\, Langlands Road KY16 9BW or at Petheram Bridge carpark\, St Andrews KY16 9TF   We are unable to accommodate pets (guide dogs welcome)
URL:https://standrewspreservationtrust.com/event/hidden-gardens-2024/
LOCATION:46 South Street\, 46 South Street\, St Andrews\, Fife\, KY16 9JT\, United Kingdom
CATEGORIES:hidden gardens,Outdoor
END:VEVENT
BEGIN:VEVENT
DTSTART;TZID=UTC:20230924T110000
DTEND;TZID=UTC:20230924T160000
DTSTAMP:20260424T082928
CREATED:20221201T133100Z
LAST-MODIFIED:20221221T122810Z
UID:10000043-1695553200-1695571200@standrewspreservationtrust.com
SUMMARY:Autumn Fair 2023
DESCRIPTION:Scroll downn to book\n					\n					\n				\n								\n				\n				\n				\n									Hidden Gardens – 28 June 2026 – 11am – 5pm – last entry 4pm  Look out for 2026 Map and Brochure online in June  You’re invited to our renowned Hidden Gardens Event!The St Andrews Preservation Trust is delighted to invite you to its 28th Hidden Gardens event on 28 June 2026. Revealing some of St Andrews’ best-kept secrets\, this annual fundraising event gives you exclusive access for one day each year to 14 hidden gardens of St Andrews. Gardens big and small\, some beautiful borders\, specimen plants\, examples of typical gardens and huge gardens with pear avenues and doocots. Interesting historic features from doocots to bee boles\, and off course lots of stone walls!See the private side of some period buildingsTrust stalls with Homemade jams\, chutneys and textilesTea on the Terrace (or Coffee) and Homemade ShortbreadsPlant stall with East Neuk perennials Community Stalls including Friends of Craigtoun\, St Andrews Men’s Shed\, Community Council (with tombola) and Fife Beekeepers (selling their own local honey)Live music at the doocot at 46 South Street Jill’s textiles stall is all set to be a big hit\, she’s been busy with her friends preparing a whole host of useful items and tasty treats! “I love sewing\, and although it’s just a hobby\, I am delighted to give 100% of what you spend at this stall to the Preservation Trust. I make useful things like aprons\, peg bags\, laundry and shoe Bags\, spectacle and mobile phone Cases\, teapot and cafetiere cosies\, cushions and draught excluders. I now combine my sewing stall with my Marmalade\, Preserves Jellies and Chutneys and Irene Bennett’s ‘heavenly’ tablet. Friends who knit have added to this emporium of homemaking crafts with Gloves\, Fingerless Texting Mittens\, Socks and snug Woolley Hats for the St. Andrews weather! You’ll find me at this year’s headquarters in the garden at 46 South Street.” Jill  A staple in the Trust calendarMembers\, locals and visitors return year after year to this unique opportunity to see behind the walls of St Andrews into private gardens\, big and small – and support the Trust in our biggest annual Fundraiser. There is a great sense of community and a fete like atmosphere with live music\, tea on the terrace\, and community stalls. The Trust would love to welcome you!  Volunteer at Hidden Gardens:If you would like to get involved contact Giselle at Trust@stapt.org.uk.   ParkingFree Parking at the Boys’ Brigade Hall\, Langlands Road KY16 9BW or at Petheram Bridge carpark\, St Andrews KY16 9TF   We are unable to accommodate pets (guide dogs welcome)
URL:https://standrewspreservationtrust.com/event/autumn-fair-2023/
LOCATION:St Andrews Preservation Trust Museum\, 12 North Street\, St Andrews\, Scotland\, KY16 9PW\, United Kingdom
CATEGORIES:Autumn Fair,Fundraisers,Outdoor
END:VEVENT
BEGIN:VEVENT
DTSTART;TZID=UTC:20230625T110000
DTEND;TZID=UTC:20230625T160000
DTSTAMP:20260424T082928
CREATED:20221201T132907Z
LAST-MODIFIED:20230504T205300Z
UID:10000053-1687690800-1687708800@standrewspreservationtrust.com
SUMMARY:Hidden Gardens 2023
DESCRIPTION:Scroll downn to book\n					\n					\n				\n								\n				\n				\n				\n									Hidden Gardens – 28 June 2026 – 11am – 5pm – last entry 4pm  Look out for 2026 Map and Brochure online in June  You’re invited to our renowned Hidden Gardens Event!The St Andrews Preservation Trust is delighted to invite you to its 28th Hidden Gardens event on 28 June 2026. Revealing some of St Andrews’ best-kept secrets\, this annual fundraising event gives you exclusive access for one day each year to 14 hidden gardens of St Andrews. Gardens big and small\, some beautiful borders\, specimen plants\, examples of typical gardens and huge gardens with pear avenues and doocots. Interesting historic features from doocots to bee boles\, and off course lots of stone walls!See the private side of some period buildingsTrust stalls with Homemade jams\, chutneys and textilesTea on the Terrace (or Coffee) and Homemade ShortbreadsPlant stall with East Neuk perennials Community Stalls including Friends of Craigtoun\, St Andrews Men’s Shed\, Community Council (with tombola) and Fife Beekeepers (selling their own local honey)Live music at the doocot at 46 South Street Jill’s textiles stall is all set to be a big hit\, she’s been busy with her friends preparing a whole host of useful items and tasty treats! “I love sewing\, and although it’s just a hobby\, I am delighted to give 100% of what you spend at this stall to the Preservation Trust. I make useful things like aprons\, peg bags\, laundry and shoe Bags\, spectacle and mobile phone Cases\, teapot and cafetiere cosies\, cushions and draught excluders. I now combine my sewing stall with my Marmalade\, Preserves Jellies and Chutneys and Irene Bennett’s ‘heavenly’ tablet. Friends who knit have added to this emporium of homemaking crafts with Gloves\, Fingerless Texting Mittens\, Socks and snug Woolley Hats for the St. Andrews weather! You’ll find me at this year’s headquarters in the garden at 46 South Street.” Jill  A staple in the Trust calendarMembers\, locals and visitors return year after year to this unique opportunity to see behind the walls of St Andrews into private gardens\, big and small – and support the Trust in our biggest annual Fundraiser. There is a great sense of community and a fete like atmosphere with live music\, tea on the terrace\, and community stalls. The Trust would love to welcome you!  Volunteer at Hidden Gardens:If you would like to get involved contact Giselle at Trust@stapt.org.uk.   ParkingFree Parking at the Boys’ Brigade Hall\, Langlands Road KY16 9BW or at Petheram Bridge carpark\, St Andrews KY16 9TF   We are unable to accommodate pets (guide dogs welcome)
URL:https://standrewspreservationtrust.com/event/hidden-gardens-2023/
LOCATION:St Andrews Preservation Trust Museum\, 12 North Street\, St Andrews\, Scotland\, KY16 9PW\, United Kingdom
CATEGORIES:hidden gardens,Outdoor
ATTACH;FMTTYPE=image/png:https://standrewspreservationtrust.com/wp-content/uploads/2022/12/HG-FB-01.png
END:VEVENT
BEGIN:VEVENT
DTSTART;TZID=UTC:20221009T143000
DTEND;TZID=UTC:20221009T163000
DTSTAMP:20260424T082928
CREATED:20220525T102445Z
LAST-MODIFIED:20220810T123852Z
UID:10000062-1665325800-1665333000@standrewspreservationtrust.com
SUMMARY:Behind the Walls
DESCRIPTION:Scroll downn to book\n					\n					\n				\n								\n				\n				\n				\n									Hidden Gardens – 28 June 2026 – 11am – 5pm – last entry 4pm  Look out for 2026 Map and Brochure online in June  You’re invited to our renowned Hidden Gardens Event!The St Andrews Preservation Trust is delighted to invite you to its 28th Hidden Gardens event on 28 June 2026. Revealing some of St Andrews’ best-kept secrets\, this annual fundraising event gives you exclusive access for one day each year to 14 hidden gardens of St Andrews. Gardens big and small\, some beautiful borders\, specimen plants\, examples of typical gardens and huge gardens with pear avenues and doocots. Interesting historic features from doocots to bee boles\, and off course lots of stone walls!See the private side of some period buildingsTrust stalls with Homemade jams\, chutneys and textilesTea on the Terrace (or Coffee) and Homemade ShortbreadsPlant stall with East Neuk perennials Community Stalls including Friends of Craigtoun\, St Andrews Men’s Shed\, Community Council (with tombola) and Fife Beekeepers (selling their own local honey)Live music at the doocot at 46 South Street Jill’s textiles stall is all set to be a big hit\, she’s been busy with her friends preparing a whole host of useful items and tasty treats! “I love sewing\, and although it’s just a hobby\, I am delighted to give 100% of what you spend at this stall to the Preservation Trust. I make useful things like aprons\, peg bags\, laundry and shoe Bags\, spectacle and mobile phone Cases\, teapot and cafetiere cosies\, cushions and draught excluders. I now combine my sewing stall with my Marmalade\, Preserves Jellies and Chutneys and Irene Bennett’s ‘heavenly’ tablet. Friends who knit have added to this emporium of homemaking crafts with Gloves\, Fingerless Texting Mittens\, Socks and snug Woolley Hats for the St. Andrews weather! You’ll find me at this year’s headquarters in the garden at 46 South Street.” Jill  A staple in the Trust calendarMembers\, locals and visitors return year after year to this unique opportunity to see behind the walls of St Andrews into private gardens\, big and small – and support the Trust in our biggest annual Fundraiser. There is a great sense of community and a fete like atmosphere with live music\, tea on the terrace\, and community stalls. The Trust would love to welcome you!  Volunteer at Hidden Gardens:If you would like to get involved contact Giselle at Trust@stapt.org.uk.   ParkingFree Parking at the Boys’ Brigade Hall\, Langlands Road KY16 9BW or at Petheram Bridge carpark\, St Andrews KY16 9TF   We are unable to accommodate pets (guide dogs welcome)
URL:https://standrewspreservationtrust.com/event/behind-the-walls/
LOCATION:Fife
CATEGORIES:Entertainment,Outdoor
ATTACH;FMTTYPE=image/jpeg:https://standrewspreservationtrust.com/wp-content/uploads/2022/05/DSC01745-2.jpg
END:VEVENT
BEGIN:VEVENT
DTSTART;TZID=UTC:20220925T110000
DTEND;TZID=UTC:20220925T160000
DTSTAMP:20260424T082928
CREATED:20220315T104423Z
LAST-MODIFIED:20221201T134241Z
UID:10000047-1664103600-1664121600@standrewspreservationtrust.com
SUMMARY:Autumn Fair
DESCRIPTION:Scroll downn to book\n					\n					\n				\n								\n				\n				\n				\n									Hidden Gardens – 28 June 2026 – 11am – 5pm – last entry 4pm  Look out for 2026 Map and Brochure online in June  You’re invited to our renowned Hidden Gardens Event!The St Andrews Preservation Trust is delighted to invite you to its 28th Hidden Gardens event on 28 June 2026. Revealing some of St Andrews’ best-kept secrets\, this annual fundraising event gives you exclusive access for one day each year to 14 hidden gardens of St Andrews. Gardens big and small\, some beautiful borders\, specimen plants\, examples of typical gardens and huge gardens with pear avenues and doocots. Interesting historic features from doocots to bee boles\, and off course lots of stone walls!See the private side of some period buildingsTrust stalls with Homemade jams\, chutneys and textilesTea on the Terrace (or Coffee) and Homemade ShortbreadsPlant stall with East Neuk perennials Community Stalls including Friends of Craigtoun\, St Andrews Men’s Shed\, Community Council (with tombola) and Fife Beekeepers (selling their own local honey)Live music at the doocot at 46 South Street Jill’s textiles stall is all set to be a big hit\, she’s been busy with her friends preparing a whole host of useful items and tasty treats! “I love sewing\, and although it’s just a hobby\, I am delighted to give 100% of what you spend at this stall to the Preservation Trust. I make useful things like aprons\, peg bags\, laundry and shoe Bags\, spectacle and mobile phone Cases\, teapot and cafetiere cosies\, cushions and draught excluders. I now combine my sewing stall with my Marmalade\, Preserves Jellies and Chutneys and Irene Bennett’s ‘heavenly’ tablet. Friends who knit have added to this emporium of homemaking crafts with Gloves\, Fingerless Texting Mittens\, Socks and snug Woolley Hats for the St. Andrews weather! You’ll find me at this year’s headquarters in the garden at 46 South Street.” Jill  A staple in the Trust calendarMembers\, locals and visitors return year after year to this unique opportunity to see behind the walls of St Andrews into private gardens\, big and small – and support the Trust in our biggest annual Fundraiser. There is a great sense of community and a fete like atmosphere with live music\, tea on the terrace\, and community stalls. The Trust would love to welcome you!  Volunteer at Hidden Gardens:If you would like to get involved contact Giselle at Trust@stapt.org.uk.   ParkingFree Parking at the Boys’ Brigade Hall\, Langlands Road KY16 9BW or at Petheram Bridge carpark\, St Andrews KY16 9TF   We are unable to accommodate pets (guide dogs welcome)
URL:https://standrewspreservationtrust.com/event/autumn-fair/
LOCATION:Fife
CATEGORIES:Outdoor
ATTACH;FMTTYPE=image/jpeg:https://standrewspreservationtrust.com/wp-content/uploads/2022/03/autumn-fair-c.jpg
END:VEVENT
BEGIN:VEVENT
DTSTART;TZID=UTC:20220626T110000
DTEND;TZID=UTC:20220626T160000
DTSTAMP:20260424T082928
CREATED:20220315T104311Z
LAST-MODIFIED:20220427T132951Z
UID:10000048-1656241200-1656259200@standrewspreservationtrust.com
SUMMARY:Hidden Gardens
DESCRIPTION:Scroll downn to book\n					\n					\n				\n								\n				\n				\n				\n									Hidden Gardens – 28 June 2026 – 11am – 5pm – last entry 4pm  Look out for 2026 Map and Brochure online in June  You’re invited to our renowned Hidden Gardens Event!The St Andrews Preservation Trust is delighted to invite you to its 28th Hidden Gardens event on 28 June 2026. Revealing some of St Andrews’ best-kept secrets\, this annual fundraising event gives you exclusive access for one day each year to 14 hidden gardens of St Andrews. Gardens big and small\, some beautiful borders\, specimen plants\, examples of typical gardens and huge gardens with pear avenues and doocots. Interesting historic features from doocots to bee boles\, and off course lots of stone walls!See the private side of some period buildingsTrust stalls with Homemade jams\, chutneys and textilesTea on the Terrace (or Coffee) and Homemade ShortbreadsPlant stall with East Neuk perennials Community Stalls including Friends of Craigtoun\, St Andrews Men’s Shed\, Community Council (with tombola) and Fife Beekeepers (selling their own local honey)Live music at the doocot at 46 South Street Jill’s textiles stall is all set to be a big hit\, she’s been busy with her friends preparing a whole host of useful items and tasty treats! “I love sewing\, and although it’s just a hobby\, I am delighted to give 100% of what you spend at this stall to the Preservation Trust. I make useful things like aprons\, peg bags\, laundry and shoe Bags\, spectacle and mobile phone Cases\, teapot and cafetiere cosies\, cushions and draught excluders. I now combine my sewing stall with my Marmalade\, Preserves Jellies and Chutneys and Irene Bennett’s ‘heavenly’ tablet. Friends who knit have added to this emporium of homemaking crafts with Gloves\, Fingerless Texting Mittens\, Socks and snug Woolley Hats for the St. Andrews weather! You’ll find me at this year’s headquarters in the garden at 46 South Street.” Jill  A staple in the Trust calendarMembers\, locals and visitors return year after year to this unique opportunity to see behind the walls of St Andrews into private gardens\, big and small – and support the Trust in our biggest annual Fundraiser. There is a great sense of community and a fete like atmosphere with live music\, tea on the terrace\, and community stalls. The Trust would love to welcome you!  Volunteer at Hidden Gardens:If you would like to get involved contact Giselle at Trust@stapt.org.uk.   ParkingFree Parking at the Boys’ Brigade Hall\, Langlands Road KY16 9BW or at Petheram Bridge carpark\, St Andrews KY16 9TF   We are unable to accommodate pets (guide dogs welcome)
URL:https://standrewspreservationtrust.com/event/hidden-gardens/
LOCATION:Fife
CATEGORIES:Outdoor
END:VEVENT
BEGIN:VEVENT
DTSTART;VALUE=DATE:20220615
DTEND;VALUE=DATE:20220616
DTSTAMP:20260424T082928
CREATED:20220315T104122Z
LAST-MODIFIED:20220614T155409Z
UID:10000049-1655251200-1655337599@standrewspreservationtrust.com
SUMMARY:Garden Readings: Finding Inspiration Through Fife Folklore
DESCRIPTION:Scroll downn to book\n					\n					\n				\n								\n				\n				\n				\n									Hidden Gardens – 28 June 2026 – 11am – 5pm – last entry 4pm  Look out for 2026 Map and Brochure online in June  You’re invited to our renowned Hidden Gardens Event!The St Andrews Preservation Trust is delighted to invite you to its 28th Hidden Gardens event on 28 June 2026. Revealing some of St Andrews’ best-kept secrets\, this annual fundraising event gives you exclusive access for one day each year to 14 hidden gardens of St Andrews. Gardens big and small\, some beautiful borders\, specimen plants\, examples of typical gardens and huge gardens with pear avenues and doocots. Interesting historic features from doocots to bee boles\, and off course lots of stone walls!See the private side of some period buildingsTrust stalls with Homemade jams\, chutneys and textilesTea on the Terrace (or Coffee) and Homemade ShortbreadsPlant stall with East Neuk perennials Community Stalls including Friends of Craigtoun\, St Andrews Men’s Shed\, Community Council (with tombola) and Fife Beekeepers (selling their own local honey)Live music at the doocot at 46 South Street Jill’s textiles stall is all set to be a big hit\, she’s been busy with her friends preparing a whole host of useful items and tasty treats! “I love sewing\, and although it’s just a hobby\, I am delighted to give 100% of what you spend at this stall to the Preservation Trust. I make useful things like aprons\, peg bags\, laundry and shoe Bags\, spectacle and mobile phone Cases\, teapot and cafetiere cosies\, cushions and draught excluders. I now combine my sewing stall with my Marmalade\, Preserves Jellies and Chutneys and Irene Bennett’s ‘heavenly’ tablet. Friends who knit have added to this emporium of homemaking crafts with Gloves\, Fingerless Texting Mittens\, Socks and snug Woolley Hats for the St. Andrews weather! You’ll find me at this year’s headquarters in the garden at 46 South Street.” Jill  A staple in the Trust calendarMembers\, locals and visitors return year after year to this unique opportunity to see behind the walls of St Andrews into private gardens\, big and small – and support the Trust in our biggest annual Fundraiser. There is a great sense of community and a fete like atmosphere with live music\, tea on the terrace\, and community stalls. The Trust would love to welcome you!  Volunteer at Hidden Gardens:If you would like to get involved contact Giselle at Trust@stapt.org.uk.   ParkingFree Parking at the Boys’ Brigade Hall\, Langlands Road KY16 9BW or at Petheram Bridge carpark\, St Andrews KY16 9TF   We are unable to accommodate pets (guide dogs welcome)
URL:https://standrewspreservationtrust.com/event/garden-readings-finding-inspiration-through-fife-folklore/
LOCATION:Fife
CATEGORIES:Outdoor
ATTACH;FMTTYPE=image/jpeg:https://standrewspreservationtrust.com/wp-content/uploads/2022/03/Museum-29.jpg
END:VEVENT
BEGIN:VEVENT
DTSTART;TZID=UTC:20220410T110000
DTEND;TZID=UTC:20220410T160000
DTSTAMP:20260424T082928
CREATED:20220315T102757Z
LAST-MODIFIED:20220316T102339Z
UID:10000034-1649588400-1649606400@standrewspreservationtrust.com
SUMMARY:Spring Fair 2022
DESCRIPTION:Scroll downn to book\n					\n					\n				\n								\n				\n				\n				\n									Hidden Gardens – 28 June 2026 – 11am – 5pm – last entry 4pm  Look out for 2026 Map and Brochure online in June  You’re invited to our renowned Hidden Gardens Event!The St Andrews Preservation Trust is delighted to invite you to its 28th Hidden Gardens event on 28 June 2026. Revealing some of St Andrews’ best-kept secrets\, this annual fundraising event gives you exclusive access for one day each year to 14 hidden gardens of St Andrews. Gardens big and small\, some beautiful borders\, specimen plants\, examples of typical gardens and huge gardens with pear avenues and doocots. Interesting historic features from doocots to bee boles\, and off course lots of stone walls!See the private side of some period buildingsTrust stalls with Homemade jams\, chutneys and textilesTea on the Terrace (or Coffee) and Homemade ShortbreadsPlant stall with East Neuk perennials Community Stalls including Friends of Craigtoun\, St Andrews Men’s Shed\, Community Council (with tombola) and Fife Beekeepers (selling their own local honey)Live music at the doocot at 46 South Street Jill’s textiles stall is all set to be a big hit\, she’s been busy with her friends preparing a whole host of useful items and tasty treats! “I love sewing\, and although it’s just a hobby\, I am delighted to give 100% of what you spend at this stall to the Preservation Trust. I make useful things like aprons\, peg bags\, laundry and shoe Bags\, spectacle and mobile phone Cases\, teapot and cafetiere cosies\, cushions and draught excluders. I now combine my sewing stall with my Marmalade\, Preserves Jellies and Chutneys and Irene Bennett’s ‘heavenly’ tablet. Friends who knit have added to this emporium of homemaking crafts with Gloves\, Fingerless Texting Mittens\, Socks and snug Woolley Hats for the St. Andrews weather! You’ll find me at this year’s headquarters in the garden at 46 South Street.” Jill  A staple in the Trust calendarMembers\, locals and visitors return year after year to this unique opportunity to see behind the walls of St Andrews into private gardens\, big and small – and support the Trust in our biggest annual Fundraiser. There is a great sense of community and a fete like atmosphere with live music\, tea on the terrace\, and community stalls. The Trust would love to welcome you!  Volunteer at Hidden Gardens:If you would like to get involved contact Giselle at Trust@stapt.org.uk.   ParkingFree Parking at the Boys’ Brigade Hall\, Langlands Road KY16 9BW or at Petheram Bridge carpark\, St Andrews KY16 9TF   We are unable to accommodate pets (guide dogs welcome)
URL:https://standrewspreservationtrust.com/event/spring-fair-10-april-11am-4pm/
LOCATION:Fife
CATEGORIES:Outdoor
ATTACH;FMTTYPE=image/png:https://standrewspreservationtrust.com/wp-content/uploads/2022/03/Spring-Fair.png
END:VEVENT
END:VCALENDAR